Workbook
Name A: 월별시장동향!$F$1

Sheet 입국
A1: 월 | B1: 일 | C1: 계 | F1: 중국 | I1: 일본 | L1: 대만 | O1: 홍콩 | R1: 태국 | U1: 베트남 | X1: 필리핀 | AA1: 말레이시아 | AD1: 인도네시아 | AG1: 싱가포르 | AJ1: 인도 | AM1: 몽골 | AP1: 우즈베키스탄 | AS1: 카자흐스탄 | AV1: GCC | AY1: UAE | BB1: 사우디아라비아 | BE1: 카타르 | BH1: 튀르키예 | BK1: 미국 | BN1: 캐나다 | BQ1: 멕시코 | BT1: 브라질 | BW1: 러시아 | BZ1: 영국 | CC1: 독일 | CF1: 프랑스 | CI1: 이탈리아 | CL1: 폴란드 | CO1: 스웨덴 | CR1: 네덜란드 | CU1: 벨기에 | CX1: 호주 | DA1: 뉴질랜드 | DD1: 기타
C2: 2025 | F2: =C2 -> 2025 | I2: =F2 -> 2025 | L2: =I2 -> 2025 | O2: =L2 -> 2025 | R2: =O2 -> 2025 | U2: =R2 -> 2025 | X2: =U2 -> 2025 | AA2: =X2 -> 2025 | AD2: =AA2 -> 2025 | AG2: =AD2 -> 2025 | AJ2: =AG2 -> 2025 | AM2: =AJ2 -> 2025 | AP2: =AM2 -> 2025 | AS2: =AP2 -> 2025 | AV2: =AS2 -> 2025 | AY2: =AV2 -> 2025 | BB2: =AY2 -> 2025 | BE2: =BB2 -> 2025 | BH2: =AV2 -> 2025 | BK2: =BH2 -> 2025 | BN2: =BK2 -> 2025 | BQ2: =BN2 -> 2025 | BT2: =BQ2 -> 2025 | BW2: =BN2 -> 2025 | BZ2: =BW2 -> 2025 | CC2: =BZ2 -> 2025 | CF2: =CC2 -> 2025 | CI2: =BW2 -> 2025 | CL2: =BZ2 -> 2025 | CO2: =CC2 -> 2025 | CR2: =CF2 -> 2025 | CU2: =CI2 -> 2025 | CX2: =CR2 -> 2025 | DA2: =CU2 -> 2025 | DD2: =CX2 -> 2025
C3: 인원수 | D3: 전년동기 | E3: 증감률(%) | F3: 인원수 | G3: 전년동기 | H3: 증감률(%) | I3: 인원수 | J3: 전년동기 | K3: 증감률(%) | L3: 인원수 | M3: 전년동기 | N3: 증감률(%) | O3: 인원수 | P3: 전년동기 | Q3: 증감률(%) | R3: 인원수 | S3: 전년동기 | T3: 증감률(%) | U3: 인원수 | V3: 전년동기 | W3: 증감률(%) | X3: 인원수 | Y3: 전년동기 | Z3: 증감률(%) | AA3: 인원수 | AB3: 전년동기 | AC3: 증감률(%) | AD3: 인원수 | AE3: 전년동기 | AF3: 증감률(%) | AG3: 인원수 | AH3: 전년동기 | AI3: 증감률(%) | AJ3: 인원수 | AK3: 전년동기 | AL3: 증감률(%) | AM3: 인원수 | AN3: 전년동기 | AO3: 증감률(%) | AP3: 인원수 | AQ3: 전년동기 | AR3: 증감률(%) | AS3: 인원수 | AT3: 전년동기 | AU3: 증감률(%) | AV3: 인원수 | AW3: 전년동기 | AX3: 증감률(%) | AY3: 인원수 | AZ3: 전년동기 | BA3: 증감률(%) | BB3: 인원수 | BC3: 전년동기 | BD3: 증감률(%) | BE3: 인원수 | BF3: 전년동기 | BG3: 증감률(%) | BH3: 인원수 | BI3: 전년동기 | BJ3: 증감률(%) | BK3: 인원수 | BL3: 전년동기 | BM3: 증감률(%) | BN3: 인원수 | BO3: 전년동기 | BP3: 증감률(%) | BQ3: 인원수 | BR3: 전년동기 | BS3: 증감률(%) | BT3: 인원수 | BU3: 전년동기 | BV3: 증감률(%) | BW3: 인원수 | BX3: 전년동기 | BY3: 증감률(%) | BZ3: 인원수 | CA3: 전년동기 | CB3: 증감률(%) | CC3: 인원수 | CD3: 전년동기 | CE3: 증감률(%) | CF3: 인원수 | CG3: 전년동기 | CH3: 증감률(%) | CI3: 인원수 | CJ3: 전년동기 | CK3: 증감률(%) | CL3: 인원수 | CM3: 전년동기 | CN3: 증감률(%) | CO3: 인원수 | CP3: 전년동기 | CQ3: 증감률(%) | CR3: 인원수 | CS3: 전년동기 | CT3: 증감률(%) | CU3: 인원수 | CV3: 전년동기 | CW3: 증감률(%) | CX3: 인원수 | CY3: 전년동기 | CZ3: 증감률(%) | DA3: 인원수 | DB3: 전년동기 | DC3: 증감률(%) | DD3: 인원수 | DE3: 전년동기 | DF3: 증감률(%)
A4: 10 | B4: 1 | C4: 50130 | D4: 52414 | E4: =IFERROR((C4/D4-1)*100,"") -> -4.3576144 | F4: 22441 | G4: 21936 | H4: =IFERROR((F4/G4-1)*100,"") -> 2.3021517 | I4: 5621 | J4: 6286 | K4: =IFERROR((I4/J4-1)*100,"") -> -10.579065 | L4: 2979 | M4: 3330 | N4: =IFERROR((L4/M4-1)*100,"") -> -10.540541 | O4: 871 | P4: 1027 | Q4: =IFERROR((O4/P4-1)*100,"") -> -15.189873 | R4: 456 | S4: 725 | T4: =IFERROR((R4/S4-1)*100,"") -> -37.103448 | U4: 1379 | V4: 1166 | W4: =IFERROR((U4/V4-1)*100,"") -> 18.267581 | X4: 1189 | Y4: 1074 | Z4: =IFERROR((X4/Y4-1)*100,"") -> 10.707635 | AA4: 531 | AB4: 713 | AC4: =IFERROR((AA4/AB4-1)*100,"") -> -25.525947 | AD4: 851 | AE4: 593 | AF4: =IFERROR((AD4/AE4-1)*100,"") -> 43.507589 | AG4: 912 | AH4: 1045 | AI4: =IFERROR((AG4/AH4-1)*100,"") -> -12.727273 | AJ4: 512 | AK4: 331 | AL4: =IFERROR((AJ4/AK4-1)*100,"") -> 54.682779 | AM4: 224 | AN4: 252 | AO4: =IFERROR((AM4/AN4-1)*100,"") -> -11.111111 | AP4: 56 | AQ4: 176 | AR4: =IFERROR((AP4/AQ4-1)*100,"") -> -68.181818 | AS4: 86 | AT4: 225 | AU4: =IFERROR((AS4/AT4-1)*100,"") -> -61.777778 | AV4: 121 | AW4: 78 | AX4: =IFERROR((AV4/AW4-1)*100,"") -> 55.128205 | AY4: 32 | AZ4: 23 | BA4: =IFERROR((AY4/AZ4-1)*100,"") -> 39.130435 | BB4: 73 | BC4: 33 | BD4: =IFERROR((BB4/BC4-1)*100,"") -> 121.21212 | BE4: 1 | BF4: 10 | BG4: =IFERROR((BE4/BF4-1)*100,"") -> -90 | BH4: 171 | BI4: 113 | BJ4: =IFERROR((BH4/BI4-1)*100,"") -> 51.327434 | BK4: 4251 | BL4: 4930 | BM4: =IFERROR((BK4/BL4-1)*100,"") -> -13.772819 | BN4: 812 | BO4: 1126 | BP4: =IFERROR((BN4/BO4-1)*100,"") -> -27.886323 | BQ4: 263 | BR4: 334 | BS4: =IFERROR((BQ4/BR4-1)*100,"") -> -21.257485 | BT4: 102 | BU4: 97 | BV4: =IFERROR((BT4/BU4-1)*100,"") -> 5.1546392 | BW4: 486 | BX4: 371 | BY4: =IFERROR((BW4/BX4-1)*100,"") -> 30.997305 | BZ4: 489 | CA4: 845 | CB4: =IFERROR((BZ4/CA4-1)*100,"") -> -42.130178 | CC4: 586 | CD4: 616 | CE4: =IFERROR((CC4/CD4-1)*100,"") -> -4.8701299 | CF4: 521 | CG4: 642 | CH4: =IFERROR((CF4/CG4-1)*100,"") -> -18.847352 | CI4: 240 | CJ4: 192 | CK4: =IFERROR((CI4/CJ4-1)*100,"") -> 25 | CL4: 208 | CM4: 76 | CN4: =IFERROR((CL4/CM4-1)*100,"") -> 173.68421 | CO4: 91 | CP4: 65 | CQ4: =IFERROR((CO4/CP4-1)*100,"") -> 40 | CR4: 156 | CS4: 183 | CT4: =IFERROR((CR4/CS4-1)*100,"") -> -14.754098 | CU4: 69 | CV4: 80 | CW4: =IFERROR((CU4/CV4-1)*100,"") -> -13.75 | CX4: 701 | CY4: 1408 | CZ4: =IFERROR((CX4/CY4-1)*100,"") -> -50.213068 | DA4: 80 | DB4: 245 | DC4: =IFERROR((DA4/DB4-1)*100,"") -> -67.346939 | DD4: 2675 | DE4: 2134 | DF4: =IFERROR((DD4/DE4-1)*100,"") -> 25.351453
B5: 2 | C5: 46923 | D5: 52837 | E5: =IFERROR((C5/D5-1)*100,"") -> -11.192914 | F5: 20829 | G5: 22346 | H5: =IFERROR((F5/G5-1)*100,"") -> -6.788687 | I5: 3441 | J5: 7184 | K5: =IFERROR((I5/J5-1)*100,"") -> -52.101893 | L5: 3731 | M5: 3770 | N5: =IFERROR((L5/M5-1)*100,"") -> -1.0344828 | O5: 651 | P5: 880 | Q5: =IFERROR((O5/P5-1)*100,"") -> -26.022727 | R5: 647 | S5: 993 | T5: =IFERROR((R5/S5-1)*100,"") -> -34.843907 | U5: 1194 | V5: 1224 | W5: =IFERROR((U5/V5-1)*100,"") -> -2.4509804 | X5: 925 | Y5: 927 | Z5: =IFERROR((X5/Y5-1)*100,"") -> -0.21574973 | AA5: 486 | AB5: 917 | AC5: =IFERROR((AA5/AB5-1)*100,"") -> -47.001091 | AD5: 560 | AE5: 662 | AF5: =IFERROR((AD5/AE5-1)*100,"") -> -15.407855 | AG5: 986 | AH5: 891 | AI5: =IFERROR((AG5/AH5-1)*100,"") -> 10.662177 | AJ5: 372 | AK5: 265 | AL5: =IFERROR((AJ5/AK5-1)*100,"") -> 40.377358 | AM5: 422 | AN5: 444 | AO5: =IFERROR((AM5/AN5-1)*100,"") -> -4.954955 | AP5: 167 | AQ5: 129 | AR5: =IFERROR((AP5/AQ5-1)*100,"") -> 29.457364 | AS5: 111 | AT5: 133 | AU5: =IFERROR((AS5/AT5-1)*100,"") -> -16.541353 | AV5: 88 | AW5: 170 | AX5: =IFERROR((AV5/AW5-1)*100,"") -> -48.235294 | AY5: 6 | AZ5: 34 | BA5: =IFERROR((AY5/AZ5-1)*100,"") -> -82.352941 | BB5: 60 | BC5: 101 | BD5: =IFERROR((BB5/BC5-1)*100,"") -> -40.594059 | BE5: 0 | BF5: 7 | BG5: =IFERROR((BE5/BF5-1)*100,"") -> -100 | BH5: 79 | BI5: 136 | BJ5: =IFERROR((BH5/BI5-1)*100,"") -> -41.911765 | BK5: 4195 | BL5: 4913 | BM5: =IFERROR((BK5/BL5-1)*100,"") -> -14.614289 | BN5: 965 | BO5: 849 | BP5: =IFERROR((BN5/BO5-1)*100,"") -> 13.663133 | BQ5: 255 | BR5: 254 | BS5: =IFERROR((BQ5/BR5-1)*100,"") -> 0.39370079 | BT5: 134 | BU5: 127 | BV5: =IFERROR((BT5/BU5-1)*100,"") -> 5.511811 | BW5: 662 | BX5: 384 | BY5: =IFERROR((BW5/BX5-1)*100,"") -> 72.395833 | BZ5: 505 | CA5: 398 | CB5: =IFERROR((BZ5/CA5-1)*100,"") -> 26.884422 | CC5: 676 | CD5: 556 | CE5: =IFERROR((CC5/CD5-1)*100,"") -> 21.582734 | CF5: 694 | CG5: 523 | CH5: =IFERROR((CF5/CG5-1)*100,"") -> 32.695985 | CI5: 262 | CJ5: 272 | CK5: =IFERROR((CI5/CJ5-1)*100,"") -> -3.6764706 | CL5: 202 | CM5: 132 | CN5: =IFERROR((CL5/CM5-1)*100,"") -> 53.030303 | CO5: 69 | CP5: 67 | CQ5: =IFERROR((CO5/CP5-1)*100,"") -> 2.9850746 | CR5: 131 | CS5: 136 | CT5: =IFERROR((CR5/CS5-1)*100,"") -> -3.6764706 | CU5: 78 | CV5: 32 | CW5: =IFERROR((CU5/CV5-1)*100,"") -> 143.75 | CX5: 918 | CY5: 625 | CZ5: =IFERROR((CX5/CY5-1)*100,"") -> 46.88 | DA5: 136 | DB5: 116 | DC5: =IFERROR((DA5/DB5-1)*100,"") -> 17.241379 | DD5: 2352 | DE5: 2382 | DF5: =IFERROR((DD5/DE5-1)*100,"") -> -1.2594458
B6: 3 | C6: 56125 | D6: 54600 | E6: =IFERROR((C6/D6-1)*100,"") -> 2.7930403 | F6: 20190 | G6: 22315 | H6: =IFERROR((F6/G6-1)*100,"") -> -9.5227425 | I6: 6352 | J6: 9037 | K6: =IFERROR((I6/J6-1)*100,"") -> -29.711187 | L6: 6823 | M6: 3429 | N6: =IFERROR((L6/M6-1)*100,"") -> 98.979294 | O6: 937 | P6: 992 | Q6: =IFERROR((O6/P6-1)*100,"") -> -5.5443548 | R6: 815 | S6: 915 | T6: =IFERROR((R6/S6-1)*100,"") -> -10.928962 | U6: 1882 | V6: 1870 | W6: =IFERROR((U6/V6-1)*100,"") -> 0.64171123 | X6: 1227 | Y6: 879 | Z6: =IFERROR((X6/Y6-1)*100,"") -> 39.590444 | AA6: 796 | AB6: 794 | AC6: =IFERROR((AA6/AB6-1)*100,"") -> 0.25188917 | AD6: 507 | AE6: 530 | AF6: =IFERROR((AD6/AE6-1)*100,"") -> -4.3396226 | AG6: 1193 | AH6: 1242 | AI6: =IFERROR((AG6/AH6-1)*100,"") -> -3.9452496 | AJ6: 395 | AK6: 345 | AL6: =IFERROR((AJ6/AK6-1)*100,"") -> 14.492754 | AM6: 530 | AN6: 345 | AO6: =IFERROR((AM6/AN6-1)*100,"") -> 53.623188 | AP6: 185 | AQ6: 329 | AR6: =IFERROR((AP6/AQ6-1)*100,"") -> -43.768997 | AS6: 168 | AT6: 161 | AU6: =IFERROR((AS6/AT6-1)*100,"") -> 4.3478261 | AV6: 145 | AW6: 65 | AX6: =IFERROR((AV6/AW6-1)*100,"") -> 123.07692 | AY6: 41 | AZ6: 10 | BA6: =IFERROR((AY6/AZ6-1)*100,"") -> 310 | BB6: 74 | BC6: 47 | BD6: =IFERROR((BB6/BC6-1)*100,"") -> 57.446809 | BE6: 1 | BF6: 1 | BG6: =IFERROR((BE6/BF6-1)*100,"") -> 0 | BH6: 195 | BI6: 77 | BJ6: =IFERROR((BH6/BI6-1)*100,"") -> 153.24675 | BK6: 4776 | BL6: 4456 | BM6: =IFERROR((BK6/BL6-1)*100,"") -> 7.1813285 | BN6: 1144 | BO6: 881 | BP6: =IFERROR((BN6/BO6-1)*100,"") -> 29.85244 | BQ6: 296 | BR6: 204 | BS6: =IFERROR((BQ6/BR6-1)*100,"") -> 45.098039 | BT6: 118 | BU6: 80 | BV6: =IFERROR((BT6/BU6-1)*100,"") -> 47.5 | BW6: 753 | BX6: 724 | BY6: =IFERROR((BW6/BX6-1)*100,"") -> 4.0055249 | BZ6: 539 | CA6: 407 | CB6: =IFERROR((BZ6/CA6-1)*100,"") -> 32.432432 | CC6: 872 | CD6: 557 | CE6: =IFERROR((CC6/CD6-1)*100,"") -> 56.552962 | CF6: 587 | CG6: 557 | CH6: =IFERROR((CF6/CG6-1)*100,"") -> 5.3859964 | CI6: 332 | CJ6: 210 | CK6: =IFERROR((CI6/CJ6-1)*100,"") -> 58.095238 | CL6: 345 | CM6: 164 | CN6: =IFERROR((CL6/CM6-1)*100,"") -> 110.36585 | CO6: 97 | CP6: 57 | CQ6: =IFERROR((CO6/CP6-1)*100,"") -> 70.175439 | CR6: 244 | CS6: 128 | CT6: =IFERROR((CR6/CS6-1)*100,"") -> 90.625 | CU6: 96 | CV6: 76 | CW6: =IFERROR((CU6/CV6-1)*100,"") -> 26.315789 | CX6: 649 | CY6: 917 | CZ6: =IFERROR((CX6/CY6-1)*100,"") -> -29.225736 | DA6: 71 | DB6: 194 | DC6: =IFERROR((DA6/DB6-1)*100,"") -> -63.402062 | DD6: 2866 | DE6: 1663 | DF6: =IFERROR((DD6/DE6-1)*100,"") -> 72.339146
B7: 4 | C7: 54142 | D7: 55195 | E7: =IFERROR((C7/D7-1)*100,"") -> -1.9077815 | F7: 17454 | G7: 16514 | H7: =IFERROR((F7/G7-1)*100,"") -> 5.69214 | I7: 6064 | J7: 12471 | K7: =IFERROR((I7/J7-1)*100,"") -> -51.37519 | L7: 6957 | M7: 5558 | N7: =IFERROR((L7/M7-1)*100,"") -> 25.170925 | O7: 1641 | P7: 1617 | Q7: =IFERROR((O7/P7-1)*100,"") -> 1.4842301 | R7: 1126 | S7: 1177 | T7: =IFERROR((R7/S7-1)*100,"") -> -4.3330501 | U7: 1853 | V7: 1517 | W7: =IFERROR((U7/V7-1)*100,"") -> 22.148978 | X7: 1010 | Y7: 945 | Z7: =IFERROR((X7/Y7-1)*100,"") -> 6.8783069 | AA7: 965 | AB7: 1020 | AC7: =IFERROR((AA7/AB7-1)*100,"") -> -5.3921569 | AD7: 770 | AE7: 709 | AF7: =IFERROR((AD7/AE7-1)*100,"") -> 8.6036671 | AG7: 1456 | AH7: 1289 | AI7: =IFERROR((AG7/AH7-1)*100,"") -> 12.95578 | AJ7: 324 | AK7: 161 | AL7: =IFERROR((AJ7/AK7-1)*100,"") -> 101.24224 | AM7: 337 | AN7: 463 | AO7: =IFERROR((AM7/AN7-1)*100,"") -> -27.213823 | AP7: 296 | AQ7: 88 | AR7: =IFERROR((AP7/AQ7-1)*100,"") -> 236.36364 | AS7: 246 | AT7: 35 | AU7: =IFERROR((AS7/AT7-1)*100,"") -> 602.85714 | AV7: 118 | AW7: 195 | AX7: =IFERROR((AV7/AW7-1)*100,"") -> -39.487179 | AY7: 16 | AZ7: 32 | BA7: =IFERROR((AY7/AZ7-1)*100,"") -> -50 | BB7: 77 | BC7: 91 | BD7: =IFERROR((BB7/BC7-1)*100,"") -> -15.384615 | BE7: 0 | BF7: 11 | BG7: =IFERROR((BE7/BF7-1)*100,"") -> -100 | BH7: 173 | BI7: 102 | BJ7: =IFERROR((BH7/BI7-1)*100,"") -> 69.607843 | BK7: 4724 | BL7: 4476 | BM7: =IFERROR((BK7/BL7-1)*100,"") -> 5.5406613 | BN7: 797 | BO7: 855 | BP7: =IFERROR((BN7/BO7-1)*100,"") -> -6.7836257 | BQ7: 303 | BR7: 275 | BS7: =IFERROR((BQ7/BR7-1)*100,"") -> 10.181818 | BT7: 172 | BU7: 166 | BV7: =IFERROR((BT7/BU7-1)*100,"") -> 3.6144578 | BW7: 596 | BX7: 441 | BY7: =IFERROR((BW7/BX7-1)*100,"") -> 35.147392 | BZ7: 615 | CA7: 489 | CB7: =IFERROR((BZ7/CA7-1)*100,"") -> 25.766871 | CC7: 933 | CD7: 755 | CE7: =IFERROR((CC7/CD7-1)*100,"") -> 23.576159 | CF7: 625 | CG7: 566 | CH7: =IFERROR((CF7/CG7-1)*100,"") -> 10.424028 | CI7: 270 | CJ7: 204 | CK7: =IFERROR((CI7/CJ7-1)*100,"") -> 32.352941 | CL7: 167 | CM7: 90 | CN7: =IFERROR((CL7/CM7-1)*100,"") -> 85.555556 | CO7: 105 | CP7: 79 | CQ7: =IFERROR((CO7/CP7-1)*100,"") -> 32.911392 | CR7: 193 | CS7: 170 | CT7: =IFERROR((CR7/CS7-1)*100,"") -> 13.529412 | CU7: 71 | CV7: 80 | CW7: =IFERROR((CU7/CV7-1)*100,"") -> -11.25 | CX7: 986 | CY7: 677 | CZ7: =IFERROR((CX7/CY7-1)*100,"") -> 45.642541 | DA7: 150 | DB7: 106 | DC7: =IFERROR((DA7/DB7-1)*100,"") -> 41.509434 | DD7: 2645 | DE7: 1905 | DF7: =IFERROR((DD7/DE7-1)*100,"") -> 38.845144
B8: 5 | C8: 41652 | D8: 42216 | E8: =IFERROR((C8/D8-1)*100,"") -> -1.3359864 | F8: 11560 | G8: 10601 | H8: =IFERROR((F8/G8-1)*100,"") -> 9.0463164 | I8: 4008 | J8: 8150 | K8: =IFERROR((I8/J8-1)*100,"") -> -50.822086 | L8: 6014 | M8: 3924 | N8: =IFERROR((L8/M8-1)*100,"") -> 53.261978 | O8: 1202 | P8: 1949 | Q8: =IFERROR((O8/P8-1)*100,"") -> -38.327347 | R8: 850 | S8: 822 | T8: =IFERROR((R8/S8-1)*100,"") -> 3.406326 | U8: 1466 | V8: 1066 | W8: =IFERROR((U8/V8-1)*100,"") -> 37.523452 | X8: 657 | Y8: 852 | Z8: =IFERROR((X8/Y8-1)*100,"") -> -22.887324 | AA8: 691 | AB8: 842 | AC8: =IFERROR((AA8/AB8-1)*100,"") -> -17.933492 | AD8: 604 | AE8: 555 | AF8: =IFERROR((AD8/AE8-1)*100,"") -> 8.8288288 | AG8: 1058 | AH8: 1239 | AI8: =IFERROR((AG8/AH8-1)*100,"") -> -14.608555 | AJ8: 359 | AK8: 271 | AL8: =IFERROR((AJ8/AK8-1)*100,"") -> 32.472325 | AM8: 367 | AN8: 358 | AO8: =IFERROR((AM8/AN8-1)*100,"") -> 2.5139665 | AP8: 145 | AQ8: 144 | AR8: =IFERROR((AP8/AQ8-1)*100,"") -> 0.69444444 | AS8: 147 | AT8: 207 | AU8: =IFERROR((AS8/AT8-1)*100,"") -> -28.985507 | AV8: 141 | AW8: 96 | AX8: =IFERROR((AV8/AW8-1)*100,"") -> 46.875 | AY8: 32 | AZ8: 18 | BA8: =IFERROR((AY8/AZ8-1)*100,"") -> 77.777778 | BB8: 72 | BC8: 57 | BD8: =IFERROR((BB8/BC8-1)*100,"") -> 26.315789 | BE8: 2 | BF8: 0 | BG8: =IFERROR((BE8/BF8-1)*100,"") | BH8: 169 | BI8: 103 | BJ8: =IFERROR((BH8/BI8-1)*100,"") -> 64.07767 | BK8: 4637 | BL8: 4544 | BM8: =IFERROR((BK8/BL8-1)*100,"") -> 2.0466549 | BN8: 1150 | BO8: 896 | BP8: =IFERROR((BN8/BO8-1)*100,"") -> 28.348214 | BQ8: 303 | BR8: 227 | BS8: =IFERROR((BQ8/BR8-1)*100,"") -> 33.480176 | BT8: 130 | BU8: 73 | BV8: =IFERROR((BT8/BU8-1)*100,"") -> 78.082192 | BW8: 688 | BX8: 509 | BY8: =IFERROR((BW8/BX8-1)*100,"") -> 35.166994 | BZ8: 432 | CA8: 527 | CB8: =IFERROR((BZ8/CA8-1)*100,"") -> -18.026565 | CC8: 580 | CD8: 451 | CE8: =IFERROR((CC8/CD8-1)*100,"") -> 28.603104 | CF8: 499 | CG8: 359 | CH8: =IFERROR((CF8/CG8-1)*100,"") -> 38.997214 | CI8: 175 | CJ8: 142 | CK8: =IFERROR((CI8/CJ8-1)*100,"") -> 23.239437 | CL8: 179 | CM8: 150 | CN8: =IFERROR((CL8/CM8-1)*100,"") -> 19.333333 | CO8: 60 | CP8: 50 | CQ8: =IFERROR((CO8/CP8-1)*100,"") -> 20 | CR8: 212 | CS8: 178 | CT8: =IFERROR((CR8/CS8-1)*100,"") -> 19.101124 | CU8: 76 | CV8: 58 | CW8: =IFERROR((CU8/CV8-1)*100,"") -> 31.034483 | CX8: 576 | CY8: 928 | CZ8: =IFERROR((CX8/CY8-1)*100,"") -> -37.931034 | DA8: 107 | DB8: 173 | DC8: =IFERROR((DA8/DB8-1)*100,"") -> -38.150289 | DD8: 2410 | DE8: 1772 | DF8: =IFERROR((DD8/DE8-1)*100,"") -> 36.004515
B9: 6 | C9: 36357 | D9: 29754 | E9: =IFERROR((C9/D9-1)*100,"") -> 22.191974 | F9: 10096 | G9: 9714 | H9: =IFERROR((F9/G9-1)*100,"") -> 3.9324686 | I9: 4128 | J9: 4150 | K9: =IFERROR((I9/J9-1)*100,"") -> -0.53012048 | L9: 3520 | M9: 2160 | N9: =IFERROR((L9/M9-1)*100,"") -> 62.962963 | O9: 776 | P9: 1068 | Q9: =IFERROR((O9/P9-1)*100,"") -> -27.340824 | R9: 909 | S9: 345 | T9: =IFERROR((R9/S9-1)*100,"") -> 163.47826 | U9: 1206 | V9: 361 | W9: =IFERROR((U9/V9-1)*100,"") -> 234.07202 | X9: 787 | Y9: 376 | Z9: =IFERROR((X9/Y9-1)*100,"") -> 109.30851 | AA9: 598 | AB9: 567 | AC9: =IFERROR((AA9/AB9-1)*100,"") -> 5.4673721 | AD9: 513 | AE9: 572 | AF9: =IFERROR((AD9/AE9-1)*100,"") -> -10.314685 | AG9: 822 | AH9: 600 | AI9: =IFERROR((AG9/AH9-1)*100,"") -> 37 | AJ9: 221 | AK9: 388 | AL9: =IFERROR((AJ9/AK9-1)*100,"") -> -43.041237 | AM9: 477 | AN9: 299 | AO9: =IFERROR((AM9/AN9-1)*100,"") -> 59.531773 | AP9: 241 | AQ9: 132 | AR9: =IFERROR((AP9/AQ9-1)*100,"") -> 82.575758 | AS9: 247 | AT9: 167 | AU9: =IFERROR((AS9/AT9-1)*100,"") -> 47.904192 | AV9: 144 | AW9: 149 | AX9: =IFERROR((AV9/AW9-1)*100,"") -> -3.3557047 | AY9: 29 | AZ9: 32 | BA9: =IFERROR((AY9/AZ9-1)*100,"") -> -9.375 | BB9: 88 | BC9: 59 | BD9: =IFERROR((BB9/BC9-1)*100,"") -> 49.152542 | BE9: 9 | BF9: 2 | BG9: =IFERROR((BE9/BF9-1)*100,"") -> 350 | BH9: 275 | BI9: 98 | BJ9: =IFERROR((BH9/BI9-1)*100,"") -> 180.61224 | BK9: 3932 | BL9: 3609 | BM9: =IFERROR((BK9/BL9-1)*100,"") -> 8.9498476 | BN9: 856 | BO9: 653 | BP9: =IFERROR((BN9/BO9-1)*100,"") -> 31.087289 | BQ9: 297 | BR9: 226 | BS9: =IFERROR((BQ9/BR9-1)*100,"") -> 31.415929 | BT9: 154 | BU9: 61 | BV9: =IFERROR((BT9/BU9-1)*100,"") -> 152.45902 | BW9: 594 | BX9: 482 | BY9: =IFERROR((BW9/BX9-1)*100,"") -> 23.236515 | BZ9: 445 | CA9: 381 | CB9: =IFERROR((BZ9/CA9-1)*100,"") -> 16.7979 | CC9: 630 | CD9: 361 | CE9: =IFERROR((CC9/CD9-1)*100,"") -> 74.515235 | CF9: 534 | CG9: 309 | CH9: =IFERROR((CF9/CG9-1)*100,"") -> 72.815534 | CI9: 178 | CJ9: 162 | CK9: =IFERROR((CI9/CJ9-1)*100,"") -> 9.8765432 | CL9: 179 | CM9: 39 | CN9: =IFERROR((CL9/CM9-1)*100,"") -> 358.97436 | CO9: 76 | CP9: 44 | CQ9: =IFERROR((CO9/CP9-1)*100,"") -> 72.727273 | CR9: 212 | CS9: 85 | CT9: =IFERROR((CR9/CS9-1)*100,"") -> 149.41176 | CU9: 87 | CV9: 39 | CW9: =IFERROR((CU9/CV9-1)*100,"") -> 123.07692 | CX9: 636 | CY9: 398 | CZ9: =IFERROR((CX9/CY9-1)*100,"") -> 59.798995 | DA9: 169 | DB9: 83 | DC9: =IFERROR((DA9/DB9-1)*100,"") -> 103.61446 | DD9: 2418 | DE9: 1676 | DF9: =IFERROR((DD9/DE9-1)*100,"") -> 44.272076
B10: 7 | C10: 34475 | D10: 42241 | E10: =IFERROR((C10/D10-1)*100,"") -> -18.384981 | F10: 12758 | G10: 11104 | H10: =IFERROR((F10/G10-1)*100,"") -> 14.895533 | I10: 2626 | J10: 8332 | K10: =IFERROR((I10/J10-1)*100,"") -> -68.482957 | L10: 2703 | M10: 3562 | N10: =IFERROR((L10/M10-1)*100,"") -> -24.115665 | O10: 984 | P10: 1505 | Q10: =IFERROR((O10/P10-1)*100,"") -> -34.61794 | R10: 694 | S10: 726 | T10: =IFERROR((R10/S10-1)*100,"") -> -4.4077135 | U10: 841 | V10: 728 | W10: =IFERROR((U10/V10-1)*100,"") -> 15.521978 | X10: 892 | Y10: 546 | Z10: =IFERROR((X10/Y10-1)*100,"") -> 63.369963 | AA10: 458 | AB10: 682 | AC10: =IFERROR((AA10/AB10-1)*100,"") -> -32.844575 | AD10: 832 | AE10: 496 | AF10: =IFERROR((AD10/AE10-1)*100,"") -> 67.741935 | AG10: 796 | AH10: 828 | AI10: =IFERROR((AG10/AH10-1)*100,"") -> -3.8647343 | AJ10: 294 | AK10: 234 | AL10: =IFERROR((AJ10/AK10-1)*100,"") -> 25.641026 | AM10: 172 | AN10: 358 | AO10: =IFERROR((AM10/AN10-1)*100,"") -> -51.955307 | AP10: 262 | AQ10: 196 | AR10: =IFERROR((AP10/AQ10-1)*100,"") -> 33.673469 | AS10: 147 | AT10: 101 | AU10: =IFERROR((AS10/AT10-1)*100,"") -> 45.544554 | AV10: 89 | AW10: 137 | AX10: =IFERROR((AV10/AW10-1)*100,"") -> -35.036496 | AY10: 18 | AZ10: 20 | BA10: =IFERROR((AY10/AZ10-1)*100,"") -> -10 | BB10: 45 | BC10: 84 | BD10: =IFERROR((BB10/BC10-1)*100,"") -> -46.428571 | BE10: 15 | BF10: 2 | BG10: =IFERROR((BE10/BF10-1)*100,"") -> 650 | BH10: 121 | BI10: 105 | BJ10: =IFERROR((BH10/BI10-1)*100,"") -> 15.238095 | BK10: 3808 | BL10: 4821 | BM10: =IFERROR((BK10/BL10-1)*100,"") -> -21.012238 | BN10: 777 | BO10: 978 | BP10: =IFERROR((BN10/BO10-1)*100,"") -> -20.552147 | BQ10: 259 | BR10: 391 | BS10: =IFERROR((BQ10/BR10-1)*100,"") -> -33.759591 | BT10: 105 | BU10: 161 | BV10: =IFERROR((BT10/BU10-1)*100,"") -> -34.782609 | BW10: 465 | BX10: 445 | BY10: =IFERROR((BW10/BX10-1)*100,"") -> 4.494382 | BZ10: 293 | CA10: 509 | CB10: =IFERROR((BZ10/CA10-1)*100,"") -> -42.436149 | CC10: 582 | CD10: 604 | CE10: =IFERROR((CC10/CD10-1)*100,"") -> -3.6423841 | CF10: 327 | CG10: 532 | CH10: =IFERROR((CF10/CG10-1)*100,"") -> -38.533835 | CI10: 119 | CJ10: 166 | CK10: =IFERROR((CI10/CJ10-1)*100,"") -> -28.313253 | CL10: 143 | CM10: 177 | CN10: =IFERROR((CL10/CM10-1)*100,"") -> -19.20904 | CO10: 59 | CP10: 49 | CQ10: =IFERROR((CO10/CP10-1)*100,"") -> 20.408163 | CR10: 86 | CS10: 205 | CT10: =IFERROR((CR10/CS10-1)*100,"") -> -58.04878 | CU10: 32 | CV10: 71 | CW10: =IFERROR((CU10/CV10-1)*100,"") -> -54.929577 | CX10: 513 | CY10: 853 | CZ10: =IFERROR((CX10/CY10-1)*100,"") -> -39.85932 | DA10: 63 | DB10: 107 | DC10: =IFERROR((DA10/DB10-1)*100,"") -> -41.121495 | DD10: 2175 | DE10: 2532 | DF10: =IFERROR((DD10/DE10-1)*100,"") -> -14.099526
B11: 8 | C11: 29979 | D11: 48484 | E11: =IFERROR((C11/D11-1)*100,"") -> -38.16723 | F11: 13717 | G11: 13523 | H11: =IFERROR((F11/G11-1)*100,"") -> 1.4345929 | I11: 1633 | J11: 9230 | K11: =IFERROR((I11/J11-1)*100,"") -> -82.307692 | L11: 2037 | M11: 4100 | N11: =IFERROR((L11/M11-1)*100,"") -> -50.317073 | O11: 716 | P11: 1777 | Q11: =IFERROR((O11/P11-1)*100,"") -> -59.707372 | R11: 468 | S11: 1041 | T11: =IFERROR((R11/S11-1)*100,"") -> -55.043228 | U11: 420 | V11: 1451 | W11: =IFERROR((U11/V11-1)*100,"") -> -71.054445 | X11: 850 | Y11: 952 | Z11: =IFERROR((X11/Y11-1)*100,"") -> -10.714286 | AA11: 314 | AB11: 791 | AC11: =IFERROR((AA11/AB11-1)*100,"") -> -60.303413 | AD11: 420 | AE11: 732 | AF11: =IFERROR((AD11/AE11-1)*100,"") -> -42.622951 | AG11: 566 | AH11: 968 | AI11: =IFERROR((AG11/AH11-1)*100,"") -> -41.528926 | AJ11: 281 | AK11: 259 | AL11: =IFERROR((AJ11/AK11-1)*100,"") -> 8.4942085 | AM11: 119 | AN11: 179 | AO11: =IFERROR((AM11/AN11-1)*100,"") -> -33.519553 | AP11: 67 | AQ11: 134 | AR11: =IFERROR((AP11/AQ11-1)*100,"") -> -50 | AS11: 65 | AT11: 71 | AU11: =IFERROR((AS11/AT11-1)*100,"") -> -8.4507042 | AV11: 77 | AW11: 62 | AX11: =IFERROR((AV11/AW11-1)*100,"") -> 24.193548 | AY11: 17 | AZ11: 15 | BA11: =IFERROR((AY11/AZ11-1)*100,"") -> 13.333333 | BB11: 39 | BC11: 31 | BD11: =IFERROR((BB11/BC11-1)*100,"") -> 25.806452 | BE11: 14 | BF11: 6 | BG11: =IFERROR((BE11/BF11-1)*100,"") -> 133.33333 | BH11: 121 | BI11: 132 | BJ11: =IFERROR((BH11/BI11-1)*100,"") -> -8.3333333 | BK11: 3111 | BL11: 4458 | BM11: =IFERROR((BK11/BL11-1)*100,"") -> -30.215343 | BN11: 710 | BO11: 1022 | BP11: =IFERROR((BN11/BO11-1)*100,"") -> -30.528376 | BQ11: 347 | BR11: 303 | BS11: =IFERROR((BQ11/BR11-1)*100,"") -> 14.521452 | BT11: 98 | BU11: 169 | BV11: =IFERROR((BT11/BU11-1)*100,"") -> -42.011834 | BW11: 286 | BX11: 949 | BY11: =IFERROR((BW11/BX11-1)*100,"") -> -69.863014 | BZ11: 368 | CA11: 489 | CB11: =IFERROR((BZ11/CA11-1)*100,"") -> -24.744376 | CC11: 309 | CD11: 600 | CE11: =IFERROR((CC11/CD11-1)*100,"") -> -48.5 | CF11: 238 | CG11: 579 | CH11: =IFERROR((CF11/CG11-1)*100,"") -> -58.894646 | CI11: 91 | CJ11: 408 | CK11: =IFERROR((CI11/CJ11-1)*100,"") -> -77.696078 | CL11: 85 | CM11: 90 | CN11: =IFERROR((CL11/CM11-1)*100,"") -> -5.5555556 | CO11: 36 | CP11: 74 | CQ11: =IFERROR((CO11/CP11-1)*100,"") -> -51.351351 | CR11: 96 | CS11: 188 | CT11: =IFERROR((CR11/CS11-1)*100,"") -> -48.93617 | CU11: 42 | CV11: 69 | CW11: =IFERROR((CU11/CV11-1)*100,"") -> -39.130435 | CX11: 302 | CY11: 1072 | CZ11: =IFERROR((CX11/CY11-1)*100,"") -> -71.828358 | DA11: 62 | DB11: 164 | DC11: =IFERROR((DA11/DB11-1)*100,"") -> -62.195122 | DD11: 1927 | DE11: 2448 | DF11: =IFERROR((DD11/DE11-1)*100,"") -> -21.28268
B12: 9 | C12: 30626 | D12: 41577 | E12: =IFERROR((C12/D12-1)*100,"") -> -26.339082 | F12: 15459 | G12: 12164 | H12: =IFERROR((F12/G12-1)*100,"") -> 27.088129 | I12: 2333 | J12: 6262 | K12: =IFERROR((I12/J12-1)*100,"") -> -62.743532 | L12: 2307 | M12: 5294 | N12: =IFERROR((L12/M12-1)*100,"") -> -56.422365 | O12: 611 | P12: 2302 | Q12: =IFERROR((O12/P12-1)*100,"") -> -73.457863 | R12: 296 | S12: 756 | T12: =IFERROR((R12/S12-1)*100,"") -> -60.846561 | U12: 289 | V12: 1128 | W12: =IFERROR((U12/V12-1)*100,"") -> -74.379433 | X12: 1015 | Y12: 874 | Z12: =IFERROR((X12/Y12-1)*100,"") -> 16.132723 | AA12: 137 | AB12: 831 | AC12: =IFERROR((AA12/AB12-1)*100,"") -> -83.513839 | AD12: 523 | AE12: 616 | AF12: =IFERROR((AD12/AE12-1)*100,"") -> -15.097403 | AG12: 160 | AH12: 729 | AI12: =IFERROR((AG12/AH12-1)*100,"") -> -78.052126 | AJ12: 447 | AK12: 173 | AL12: =IFERROR((AJ12/AK12-1)*100,"") -> 158.3815 | AM12: 164 | AN12: 447 | AO12: =IFERROR((AM12/AN12-1)*100,"") -> -63.310962 | AP12: 265 | AQ12: 72 | AR12: =IFERROR((AP12/AQ12-1)*100,"") -> 268.05556 | AS12: 109 | AT12: 155 | AU12: =IFERROR((AS12/AT12-1)*100,"") -> -29.677419 | AV12: 32 | AW12: 64 | AX12: =IFERROR((AV12/AW12-1)*100,"") -> -50 | AY12: 11 | AZ12: 8 | BA12: =IFERROR((AY12/AZ12-1)*100,"") -> 37.5 | BB12: 19 | BC12: 42 | BD12: =IFERROR((BB12/BC12-1)*100,"") -> -54.761905 | BE12: 2 | BF12: 0 | BG12: =IFERROR((BE12/BF12-1)*100,"") | BH12: 24 | BI12: 75 | BJ12: =IFERROR((BH12/BI12-1)*100,"") -> -68 | BK12: 2573 | BL12: 4004 | BM12: =IFERROR((BK12/BL12-1)*100,"") -> -35.739261 | BN12: 537 | BO12: 743 | BP12: =IFERROR((BN12/BO12-1)*100,"") -> -27.725437 | BQ12: 196 | BR12: 278 | BS12: =IFERROR((BQ12/BR12-1)*100,"") -> -29.496403 | BT12: 40 | BU12: 90 | BV12: =IFERROR((BT12/BU12-1)*100,"") -> -55.555556 | BW12: 519 | BX12: 436 | BY12: =IFERROR((BW12/BX12-1)*100,"") -> 19.036697 | BZ12: 236 | CA12: 437 | CB12: =IFERROR((BZ12/CA12-1)*100,"") -> -45.995423 | CC12: 153 | CD12: 408 | CE12: =IFERROR((CC12/CD12-1)*100,"") -> -62.5 | CF12: 124 | CG12: 456 | CH12: =IFERROR((CF12/CG12-1)*100,"") -> -72.807018 | CI12: 49 | CJ12: 119 | CK12: =IFERROR((CI12/CJ12-1)*100,"") -> -58.823529 | CL12: 69 | CM12: 111 | CN12: =IFERROR((CL12/CM12-1)*100,"") -> -37.837838 | CO12: 31 | CP12: 53 | CQ12: =IFERROR((CO12/CP12-1)*100,"") -> -41.509434 | CR12: 60 | CS12: 77 | CT12: =IFERROR((CR12/CS12-1)*100,"") -> -22.077922 | CU12: 24 | CV12: 50 | CW12: =IFERROR((CU12/CV12-1)*100,"") -> -52 | CX12: 224 | CY12: 494 | CZ12: =IFERROR((CX12/CY12-1)*100,"") -> -54.65587 | DA12: 43 | DB12: 109 | DC12: =IFERROR((DA12/DB12-1)*100,"") -> -60.550459 | DD12: 1577 | DE12: 1770 | DF12: =IFERROR((DD12/DE12-1)*100,"") -> -10.903955
B13: 10 | C13: 48627 | D13: 53928 | E13: =IFERROR((C13/D13-1)*100,"") -> -9.829773 | F13: 15444 | G13: 11788 | H13: =IFERROR((F13/G13-1)*100,"") -> 31.014591 | I13: 12832 | J13: 11455 | K13: =IFERROR((I13/J13-1)*100,"") -> 12.020952 | L13: 4299 | M13: 6157 | N13: =IFERROR((L13/M13-1)*100,"") -> -30.177034 | O13: 936 | P13: 3005 | Q13: =IFERROR((O13/P13-1)*100,"") -> -68.851913 | R13: 773 | S13: 1791 | T13: =IFERROR((R13/S13-1)*100,"") -> -56.839754 | U13: 620 | V13: 1624 | W13: =IFERROR((U13/V13-1)*100,"") -> -61.82266 | X13: 1418 | Y13: 1215 | Z13: =IFERROR((X13/Y13-1)*100,"") -> 16.707819 | AA13: 376 | AB13: 1084 | AC13: =IFERROR((AA13/AB13-1)*100,"") -> -65.313653 | AD13: 822 | AE13: 716 | AF13: =IFERROR((AD13/AE13-1)*100,"") -> 14.804469 | AG13: 541 | AH13: 1302 | AI13: =IFERROR((AG13/AH13-1)*100,"") -> -58.448541 | AJ13: 604 | AK13: 327 | AL13: =IFERROR((AJ13/AK13-1)*100,"") -> 84.70948 | AM13: 293 | AN13: 399 | AO13: =IFERROR((AM13/AN13-1)*100,"") -> -26.566416 | AP13: 149 | AQ13: 275 | AR13: =IFERROR((AP13/AQ13-1)*100,"") -> -45.818182 | AS13: 107 | AT13: 196 | AU13: =IFERROR((AS13/AT13-1)*100,"") -> -45.408163 | AV13: 72 | AW13: 55 | AX13: =IFERROR((AV13/AW13-1)*100,"") -> 30.909091 | AY13: 12 | AZ13: 18 | BA13: =IFERROR((AY13/AZ13-1)*100,"") -> -33.333333 | BB13: 42 | BC13: 24 | BD13: =IFERROR((BB13/BC13-1)*100,"") -> 75 | BE13: 8 | BF13: 3 | BG13: =IFERROR((BE13/BF13-1)*100,"") -> 166.66667 | BH13: 169 | BI13: 71 | BJ13: =IFERROR((BH13/BI13-1)*100,"") -> 138.02817 | BK13: 3416 | BL13: 4938 | BM13: =IFERROR((BK13/BL13-1)*100,"") -> -30.822195 | BN13: 714 | BO13: 1068 | BP13: =IFERROR((BN13/BO13-1)*100,"") -> -33.146067 | BQ13: 244 | BR13: 302 | BS13: =IFERROR((BQ13/BR13-1)*100,"") -> -19.205298 | BT13: 113 | BU13: 165 | BV13: =IFERROR((BT13/BU13-1)*100,"") -> -31.515152 | BW13: 497 | BX13: 715 | BY13: =IFERROR((BW13/BX13-1)*100,"") -> -30.48951 | BZ13: 383 | CA13: 536 | CB13: =IFERROR((BZ13/CA13-1)*100,"") -> -28.544776 | CC13: 261 | CD13: 413 | CE13: =IFERROR((CC13/CD13-1)*100,"") -> -36.803874 | CF13: 255 | CG13: 479 | CH13: =IFERROR((CF13/CG13-1)*100,"") -> -46.764092 | CI13: 123 | CJ13: 152 | CK13: =IFERROR((CI13/CJ13-1)*100,"") -> -19.078947 | CL13: 167 | CM13: 99 | CN13: =IFERROR((CL13/CM13-1)*100,"") -> 68.686869 | CO13: 71 | CP13: 52 | CQ13: =IFERROR((CO13/CP13-1)*100,"") -> 36.538462 | CR13: 82 | CS13: 153 | CT13: =IFERROR((CR13/CS13-1)*100,"") -> -46.405229 | CU13: 27 | CV13: 60 | CW13: =IFERROR((CU13/CV13-1)*100,"") -> -55 | CX13: 420 | CY13: 1006 | CZ13: =IFERROR((CX13/CY13-1)*100,"") -> -58.250497 | DA13: 62 | DB13: 219 | DC13: =IFERROR((DA13/DB13-1)*100,"") -> -71.689498 | DD13: 2337 | DE13: 2111 | DF13: =IFERROR((DD13/DE13-1)*100,"") -> 10.705827
B14: 11 | C14: 40346 | D14: 65651 | E14: =IFERROR((C14/D14-1)*100,"") -> -38.544729 | F14: 13203 | G14: 14599 | H14: =IFERROR((F14/G14-1)*100,"") -> -9.5622988 | I14: 9345 | J14: 18346 | K14: =IFERROR((I14/J14-1)*100,"") -> -49.062466 | L14: 2042 | M14: 6205 | N14: =IFERROR((L14/M14-1)*100,"") -> -67.091056 | O14: 672 | P14: 2994 | Q14: =IFERROR((O14/P14-1)*100,"") -> -77.55511 | R14: 689 | S14: 2446 | T14: =IFERROR((R14/S14-1)*100,"") -> -71.831562 | U14: 780 | V14: 1780 | W14: =IFERROR((U14/V14-1)*100,"") -> -56.179775 | X14: 1470 | Y14: 1275 | Z14: =IFERROR((X14/Y14-1)*100,"") -> 15.294118 | AA14: 205 | AB14: 1333 | AC14: =IFERROR((AA14/AB14-1)*100,"") -> -84.621155 | AD14: 668 | AE14: 708 | AF14: =IFERROR((AD14/AE14-1)*100,"") -> -5.6497175 | AG14: 456 | AH14: 1341 | AI14: =IFERROR((AG14/AH14-1)*100,"") -> -65.995526 | AJ14: 582 | AK14: 176 | AL14: =IFERROR((AJ14/AK14-1)*100,"") -> 230.68182 | AM14: 162 | AN14: 503 | AO14: =IFERROR((AM14/AN14-1)*100,"") -> -67.793241 | AP14: 169 | AQ14: 87 | AR14: =IFERROR((AP14/AQ14-1)*100,"") -> 94.252874 | AS14: 81 | AT14: 56 | AU14: =IFERROR((AS14/AT14-1)*100,"") -> 44.642857 | AV14: 58 | AW14: 144 | AX14: =IFERROR((AV14/AW14-1)*100,"") -> -59.722222 | AY14: 4 | AZ14: 22 | BA14: =IFERROR((AY14/AZ14-1)*100,"") -> -81.818182 | BB14: 46 | BC14: 88 | BD14: =IFERROR((BB14/BC14-1)*100,"") -> -47.727273 | BE14: 1 | BF14: 8 | BG14: =IFERROR((BE14/BF14-1)*100,"") -> -87.5 | BH14: 78 | BI14: 127 | BJ14: =IFERROR((BH14/BI14-1)*100,"") -> -38.582677 | BK14: 3172 | BL14: 6044 | BM14: =IFERROR((BK14/BL14-1)*100,"") -> -47.5182 | BN14: 829 | BO14: 1048 | BP14: =IFERROR((BN14/BO14-1)*100,"") -> -20.896947 | BQ14: 171 | BR14: 352 | BS14: =IFERROR((BQ14/BR14-1)*100,"") -> -51.420455 | BT14: 69 | BU14: 152 | BV14: =IFERROR((BT14/BU14-1)*100,"") -> -54.605263 | BW14: 515 | BX14: 420 | BY14: =IFERROR((BW14/BX14-1)*100,"") -> 22.619048 | BZ14: 992 | CA14: 618 | CB14: =IFERROR((BZ14/CA14-1)*100,"") -> 60.517799 | CC14: 358 | CD14: 584 | CE14: =IFERROR((CC14/CD14-1)*100,"") -> -38.69863 | CF14: 235 | CG14: 524 | CH14: =IFERROR((CF14/CG14-1)*100,"") -> -55.152672 | CI14: 116 | CJ14: 156 | CK14: =IFERROR((CI14/CJ14-1)*100,"") -> -25.641026 | CL14: 47 | CM14: 118 | CN14: =IFERROR((CL14/CM14-1)*100,"") -> -60.169492 | CO14: 21 | CP14: 78 | CQ14: =IFERROR((CO14/CP14-1)*100,"") -> -73.076923 | CR14: 90 | CS14: 178 | CT14: =IFERROR((CR14/CS14-1)*100,"") -> -49.438202 | CU14: 32 | CV14: 53 | CW14: =IFERROR((CU14/CV14-1)*100,"") -> -39.622642 | CX14: 514 | CY14: 750 | CZ14: =IFERROR((CX14/CY14-1)*100,"") -> -31.466667 | DA14: 102 | DB14: 135 | DC14: =IFERROR((DA14/DB14-1)*100,"") -> -24.444444 | DD14: 2423 | DE14: 2321 | DF14: =IFERROR((DD14/DE14-1)*100,"") -> 4.3946575
B15: 12 | C15: 33565 | D15: 53853 | E15: =IFERROR((C15/D15-1)*100,"") -> -37.672924 | F15: 12336 | G15: 11824 | H15: =IFERROR((F15/G15-1)*100,"") -> 4.3301759 | I15: 4958 | J15: 17555 | K15: =IFERROR((I15/J15-1)*100,"") -> -71.757334 | L15: 2301 | M15: 3619 | N15: =IFERROR((L15/M15-1)*100,"") -> -36.4189 | O15: 401 | P15: 1580 | Q15: =IFERROR((O15/P15-1)*100,"") -> -74.620253 | R15: 550 | S15: 2138 | T15: =IFERROR((R15/S15-1)*100,"") -> -74.275023 | U15: 774 | V15: 1338 | W15: =IFERROR((U15/V15-1)*100,"") -> -42.152466 | X15: 1960 | Y15: 1238 | Z15: =IFERROR((X15/Y15-1)*100,"") -> 58.319871 | AA15: 228 | AB15: 1088 | AC15: =IFERROR((AA15/AB15-1)*100,"") -> -79.044118 | AD15: 564 | AE15: 519 | AF15: =IFERROR((AD15/AE15-1)*100,"") -> 8.6705202 | AG15: 344 | AH15: 1349 | AI15: =IFERROR((AG15/AH15-1)*100,"") -> -74.499629 | AJ15: 408 | AK15: 356 | AL15: =IFERROR((AJ15/AK15-1)*100,"") -> 14.606742 | AM15: 262 | AN15: 417 | AO15: =IFERROR((AM15/AN15-1)*100,"") -> -37.170264 | AP15: 91 | AQ15: 154 | AR15: =IFERROR((AP15/AQ15-1)*100,"") -> -40.909091 | AS15: 62 | AT15: 135 | AU15: =IFERROR((AS15/AT15-1)*100,"") -> -54.074074 | AV15: 57 | AW15: 101 | AX15: =IFERROR((AV15/AW15-1)*100,"") -> -43.564356 | AY15: 16 | AZ15: 26 | BA15: =IFERROR((AY15/AZ15-1)*100,"") -> -38.461538 | BB15: 38 | BC15: 50 | BD15: =IFERROR((BB15/BC15-1)*100,"") -> -24 | BE15: 2 | BF15: 2 | BG15: =IFERROR((BE15/BF15-1)*100,"") -> 0 | BH15: 27 | BI15: 56 | BJ15: =IFERROR((BH15/BI15-1)*100,"") -> -51.785714 | BK15: 3262 | BL15: 4001 | BM15: =IFERROR((BK15/BL15-1)*100,"") -> -18.470382 | BN15: 568 | BO15: 766 | BP15: =IFERROR((BN15/BO15-1)*100,"") -> -25.848564 | BQ15: 145 | BR15: 324 | BS15: =IFERROR((BQ15/BR15-1)*100,"") -> -55.246914 | BT15: 67 | BU15: 138 | BV15: =IFERROR((BT15/BU15-1)*100,"") -> -51.449275 | BW15: 390 | BX15: 536 | BY15: =IFERROR((BW15/BX15-1)*100,"") -> -27.238806 | BZ15: 497 | CA15: 522 | CB15: =IFERROR((BZ15/CA15-1)*100,"") -> -4.789272 | CC15: 336 | CD15: 487 | CE15: =IFERROR((CC15/CD15-1)*100,"") -> -31.00616 | CF15: 230 | CG15: 343 | CH15: =IFERROR((CF15/CG15-1)*100,"") -> -32.944606 | CI15: 113 | CJ15: 129 | CK15: =IFERROR((CI15/CJ15-1)*100,"") -> -12.403101 | CL15: 49 | CM15: 98 | CN15: =IFERROR((CL15/CM15-1)*100,"") -> -50 | CO15: 31 | CP15: 55 | CQ15: =IFERROR((CO15/CP15-1)*100,"") -> -43.636364 | CR15: 84 | CS15: 126 | CT15: =IFERROR((CR15/CS15-1)*100,"") -> -33.333333 | CU15: 33 | CV15: 62 | CW15: =IFERROR((CU15/CV15-1)*100,"") -> -46.774194 | CX15: 366 | CY15: 784 | CZ15: =IFERROR((CX15/CY15-1)*100,"") -> -53.316327 | DA15: 56 | DB15: 139 | DC15: =IFERROR((DA15/DB15-1)*100,"") -> -59.71223 | DD15: 2015 | DE15: 1876 | DF15: =IFERROR((DD15/DE15-1)*100,"") -> 7.4093817
B16: 13 | C16: 64312 | D16: 43859 | E16: =IFERROR((C16/D16-1)*100,"") -> 46.63353 | F16: 22975 | G16: 10399 | H16: =IFERROR((F16/G16-1)*100,"") -> 120.93471 | I16: 10237 | J16: 9805 | K16: =IFERROR((I16/J16-1)*100,"") -> 4.4059153 | L16: 5082 | M16: 3435 | N16: =IFERROR((L16/M16-1)*100,"") -> 47.947598 | O16: 1183 | P16: 1413 | Q16: =IFERROR((O16/P16-1)*100,"") -> -16.277424 | R16: 893 | S16: 748 | T16: =IFERROR((R16/S16-1)*100,"") -> 19.385027 | U16: 1837 | V16: 663 | W16: =IFERROR((U16/V16-1)*100,"") -> 177.07391 | X16: 2272 | Y16: 951 | Z16: =IFERROR((X16/Y16-1)*100,"") -> 138.90641 | AA16: 715 | AB16: 840 | AC16: =IFERROR((AA16/AB16-1)*100,"") -> -14.880952 | AD16: 985 | AE16: 783 | AF16: =IFERROR((AD16/AE16-1)*100,"") -> 25.798212 | AG16: 974 | AH16: 731 | AI16: =IFERROR((AG16/AH16-1)*100,"") -> 33.242134 | AJ16: 812 | AK16: 451 | AL16: =IFERROR((AJ16/AK16-1)*100,"") -> 80.044346 | AM16: 642 | AN16: 403 | AO16: =IFERROR((AM16/AN16-1)*100,"") -> 59.305211 | AP16: 317 | AQ16: 173 | AR16: =IFERROR((AP16/AQ16-1)*100,"") -> 83.236994 | AS16: 202 | AT16: 176 | AU16: =IFERROR((AS16/AT16-1)*100,"") -> 14.772727 | AV16: 96 | AW16: 132 | AX16: =IFERROR((AV16/AW16-1)*100,"") -> -27.272727 | AY16: 35 | AZ16: 26 | BA16: =IFERROR((AY16/AZ16-1)*100,"") -> 34.615385 | BB16: 49 | BC16: 66 | BD16: =IFERROR((BB16/BC16-1)*100,"") -> -25.757576 | BE16: 5 | BF16: 5 | BG16: =IFERROR((BE16/BF16-1)*100,"") -> 0 | BH16: 175 | BI16: 64 | BJ16: =IFERROR((BH16/BI16-1)*100,"") -> 173.4375 | BK16: 5297 | BL16: 5098 | BM16: =IFERROR((BK16/BL16-1)*100,"") -> 3.9034916 | BN16: 1036 | BO16: 1441 | BP16: =IFERROR((BN16/BO16-1)*100,"") -> -28.105482 | BQ16: 280 | BR16: 360 | BS16: =IFERROR((BQ16/BR16-1)*100,"") -> -22.222222 | BT16: 128 | BU16: 144 | BV16: =IFERROR((BT16/BU16-1)*100,"") -> -11.111111 | BW16: 825 | BX16: 598 | BY16: =IFERROR((BW16/BX16-1)*100,"") -> 37.959866 | BZ16: 722 | CA16: 766 | CB16: =IFERROR((BZ16/CA16-1)*100,"") -> -5.7441253 | CC16: 711 | CD16: 564 | CE16: =IFERROR((CC16/CD16-1)*100,"") -> 26.06383 | CF16: 387 | CG16: 419 | CH16: =IFERROR((CF16/CG16-1)*100,"") -> -7.6372315 | CI16: 179 | CJ16: 164 | CK16: =IFERROR((CI16/CJ16-1)*100,"") -> 9.1463415 | CL16: 106 | CM16: 61 | CN16: =IFERROR((CL16/CM16-1)*100,"") -> 73.770492 | CO16: 103 | CP16: 60 | CQ16: =IFERROR((CO16/CP16-1)*100,"") -> 71.666667 | CR16: 136 | CS16: 112 | CT16: =IFERROR((CR16/CS16-1)*100,"") -> 21.428571 | CU16: 45 | CV16: 67 | CW16: =IFERROR((CU16/CV16-1)*100,"") -> -32.835821 | CX16: 979 | CY16: 804 | CZ16: =IFERROR((CX16/CY16-1)*100,"") -> 21.766169 | DA16: 147 | DB16: 107 | DC16: =IFERROR((DA16/DB16-1)*100,"") -> 37.383178 | DD16: 3834 | DE16: 1927 | DF16: =IFERROR((DD16/DE16-1)*100,"") -> 98.962117
... B33: 30 | C33: 0 | D33: 45136 | E33: =IFERROR((C33/D33-1)*100,"") -> -100 | F33: 0 | G33: 8611 | H33: =IFERROR((F33/G33-1)*100,"") -> -100 | I33: 0 | J33: 8495 | K33: =IFERROR((I33/J33-1)*100,"") -> -100 | L33: 0 | M33: 5281 | N33: =IFERROR((L33/M33-1)*100,"") -> -100 | O33: 0 | P33: 1200 | Q33: =IFERROR((O33/P33-1)*100,"") -> -100 | R33: 0 | S33: 1136 | T33: =IFERROR((R33/S33-1)*100,"") -> -100 | U33: 0 | V33: 2220 | W33: =IFERROR((U33/V33-1)*100,"") -> -100 | X33: 0 | Y33: 2828 | Z33: =IFERROR((X33/Y33-1)*100,"") -> -100 | AA33: 0 | AB33: 1715 | AC33: =IFERROR((AA33/AB33-1)*100,"") -> -100 | AD33: 0 | AE33: 873 | AF33: =IFERROR((AD33/AE33-1)*100,"") -> -100 | AG33: 0 | AH33: 1833 | AI33: =IFERROR((AG33/AH33-1)*100,"") -> -100 | AJ33: 0 | AK33: 199 | AL33: =IFERROR((AJ33/AK33-1)*100,"") -> -100 | AM33: 0 | AN33: 492 | AO33: =IFERROR((AM33/AN33-1)*100,"") -> -100 | AP33: 0 | AQ33: 95 | AR33: =IFERROR((AP33/AQ33-1)*100,"") -> -100 | AS33: 0 | AT33: 161 | AU33: =IFERROR((AS33/AT33-1)*100,"") -> -100 | AV33: 0 | AW33: 100 | AX33: =IFERROR((AV33/AW33-1)*100,"") -> -100 | AY33: 0 | AZ33: 28 | BA33: =IFERROR((AY33/AZ33-1)*100,"") -> -100 | BB33: 0 | BC33: 56 | BD33: =IFERROR((BB33/BC33-1)*100,"") -> -100 | BE33: 0 | BF33: 0 | BG33: =IFERROR((BE33/BF33-1)*100,"") | BH33: 0 | BI33: 110 | BJ33: =IFERROR((BH33/BI33-1)*100,"") -> -100 | BK33: 0 | BL33: 3266 | BM33: =IFERROR((BK33/BL33-1)*100,"") -> -100 | BN33: 0 | BO33: 638 | BP33: =IFERROR((BN33/BO33-1)*100,"") -> -100 | BQ33: 0 | BR33: 291 | BS33: =IFERROR((BQ33/BR33-1)*100,"") -> -100 | BT33: 0 | BU33: 97 | BV33: =IFERROR((BT33/BU33-1)*100,"") -> -100 | BW33: 0 | BX33: 716 | BY33: =IFERROR((BW33/BX33-1)*100,"") -> -100 | BZ33: 0 | CA33: 329 | CB33: =IFERROR((BZ33/CA33-1)*100,"") -> -100 | CC33: 0 | CD33: 312 | CE33: =IFERROR((CC33/CD33-1)*100,"") -> -100 | CF33: 0 | CG33: 453 | CH33: =IFERROR((CF33/CG33-1)*100,"") -> -100 | CI33: 0 | CJ33: 192 | CK33: =IFERROR((CI33/CJ33-1)*100,"") -> -100 | CL33: 0 | CM33: 123 | CN33: =IFERROR((CL33/CM33-1)*100,"") -> -100 | CO33: 0 | CP33: 77 | CQ33: =IFERROR((CO33/CP33-1)*100,"") -> -100 | CR33: 0 | CS33: 125 | CT33: =IFERROR((CR33/CS33-1)*100,"") -> -100 | CU33: 0 | CV33: 53 | CW33: =IFERROR((CU33/CV33-1)*100,"") -> -100 | CX33: 0 | CY33: 439 | CZ33: =IFERROR((CX33/CY33-1)*100,"") -> -100 | DA33: 0 | DB33: 97 | DC33: =IFERROR((DA33/DB33-1)*100,"") -> -100 | DD33: 0 | DE33: 2579 | DF33: =IFERROR((DD33/DE33-1)*100,"") -> -100
A35: 소계 | C35: =SUM(C4:C34) -> 1444316 | D35: =SUM(D4:D34) -> 1510889 | E35: =IFERROR((C35/D35-1)*100,"") -> -4.4062138 | F35: =SUM(F4:F34) -> 433007 | G35: =SUM(G4:G34) -> 392295 | H35: =IFERROR((F35/G35-1)*100,"") -> 10.377904 | I35: =SUM(I4:I34) -> 246724 | J35: =SUM(J4:J34) -> 313371 | K35: =IFERROR((I35/J35-1)*100,"") -> -21.267762 | L35: =SUM(L4:L34) -> 132841 | M35: =SUM(M4:M34) -> 131697 | N35: =IFERROR((L35/M35-1)*100,"") -> 0.86866064 | O35: =SUM(O4:O34) -> 34528 | P35: =SUM(P4:P34) -> 50171 | Q35: =IFERROR((O35/P35-1)*100,"") -> -31.179367 | R35: =SUM(R4:R34) -> 32327 | S35: =SUM(S4:S34) -> 37005 | T35: =IFERROR((R35/S35-1)*100,"") -> -12.641535 | U35: =SUM(U4:U34) -> 42115 | V35: =SUM(V4:V34) -> 46282 | W35: =IFERROR((U35/V35-1)*100,"") -> -9.0035003 | X35: =SUM(X4:X34) -> 45659 | Y35: =SUM(Y4:Y34) -> 42694 | Z35: =IFERROR((X35/Y35-1)*100,"") -> 6.9447698 | AA35: =SUM(AA4:AA34) -> 25413 | AB35: =SUM(AB4:AB34) -> 33646 | AC35: =IFERROR((AA35/AB35-1)*100,"") -> -24.469476 | AD35: =SUM(AD4:AD34) -> 24583 | AE35: =SUM(AE4:AE34) -> 25245 | AF35: =IFERROR((AD35/AE35-1)*100,"") -> -2.6223014 | AG35: =SUM(AG4:AG34) -> 31392 | AH35: =SUM(AH4:AH34) -> 37457 | AI35: =IFERROR((AG35/AH35-1)*100,"") -> -16.1919 | AJ35: =SUM(AJ4:AJ34) -> 13180 | AK35: =SUM(AK4:AK34) -> 10265 | AL35: =IFERROR((AJ35/AK35-1)*100,"") -> 28.397467 | AM35: =SUM(AM4:AM34) -> 12809 | AN35: =SUM(AN4:AN34) -> 12696 | AO35: =IFERROR((AM35/AN35-1)*100,"") -> 0.89004411 | AP35: =SUM(AP4:AP34) -> 5838 | AQ35: =SUM(AQ4:AQ34) -> 4843 | AR35: =IFERROR((AP35/AQ35-1)*100,"") -> 20.545117 | AS35: =SUM(AS4:AS34) -> 4982 | AT35: =SUM(AT4:AT34) -> 4847 | AU35: =IFERROR((AS35/AT35-1)*100,"") -> 2.785228 | AV35: =SUM(AV4:AV34) -> 3427 | AW35: =SUM(AW4:AW34) -> 3662 | AX35: =IFERROR((AV35/AW35-1)*100,"") -> -6.4172583 | AY35: =SUM(AY4:AY34) -> 778 | AZ35: =SUM(AZ4:AZ34) -> 795 | BA35: =IFERROR((AY35/AZ35-1)*100,"") -> -2.1383648 | BB35: =SUM(BB4:BB34) -> 1896 | BC35: =SUM(BC4:BC34) -> 1782 | BD35: =IFERROR((BB35/BC35-1)*100,"") -> 6.3973064 | BE35: =SUM(BE4:BE34) -> 199 | BF35: =SUM(BF4:BF34) -> 255 | BG35: =IFERROR((BE35/BF35-1)*100,"") -> -21.960784 | BH35: =SUM(BH4:BH34) -> 4234 | BI35: =SUM(BI4:BI34) -> 3552 | BJ35: =IFERROR((BH35/BI35-1)*100,"") -> 19.20045 | BK35: =SUM(BK4:BK34) -> 121841 | BL35: =SUM(BL4:BL34) -> 136451 | BM35: =IFERROR((BK35/BL35-1)*100,"") -> -10.70714 | BN35: =SUM(BN4:BN34) -> 25300 | BO35: =SUM(BO4:BO34) -> 26624 | BP35: =IFERROR((BN35/BO35-1)*100,"") -> -4.9729567 | BQ35: =SUM(BQ4:BQ34) -> 7847 | BR35: =SUM(BR4:BR34) -> 9310 | BS35: =IFERROR((BQ35/BR35-1)*100,"") -> -15.714286 | BT35: =SUM(BT4:BT34) -> 3965 | BU35: =SUM(BU4:BU34) -> 3785 | BV35: =IFERROR((BT35/BU35-1)*100,"") -> 4.7556143 | BW35: =SUM(BW4:BW34) -> 19773 | BX35: =SUM(BX4:BX34) -> 17574 | BY35: =IFERROR((BW35/BX35-1)*100,"") -> 12.512803 | BZ35: =SUM(BZ4:BZ34) -> 16545 | CA35: =SUM(CA4:CA34) -> 15677 | CB35: =IFERROR((BZ35/CA35-1)*100,"") -> 5.5367736 | CC35: =SUM(CC4:CC34) -> 16284 | CD35: =SUM(CD4:CD34) -> 16415 | CE35: =IFERROR((CC35/CD35-1)*100,"") -> -0.79805056 | CF35: =SUM(CF4:CF34) -> 16734 | CG35: =SUM(CG4:CG34) -> 17880 | CH35: =IFERROR((CF35/CG35-1)*100,"") -> -6.409396 | CI35: =SUM(CI4:CI34) -> 6173 | CJ35: =SUM(CJ4:CJ34) -> 6149 | CK35: =IFERROR((CI35/CJ35-1)*100,"") -> 0.39030737 | CL35: =SUM(CL4:CL34) -> 4026 | CM35: =SUM(CM4:CM34) -> 3616 | CN35: =IFERROR((CL35/CM35-1)*100,"") -> 11.338496 | CO35: =SUM(CO4:CO34) -> 2507 | CP35: =SUM(CP4:CP34) -> 2286 | CQ35: =IFERROR((CO35/CP35-1)*100,"") -> 9.6675416 | CR35: =SUM(CR4:CR34) -> 4474 | CS35: =SUM(CS4:CS34) -> 4765 | CT35: =IFERROR((CR35/CS35-1)*100,"") -> -6.1070304 | CU35: =SUM(CU4:CU34) -> 2020 | CV35: =SUM(CV4:CV34) -> 2143 | CW35: =IFERROR((CU35/CV35-1)*100,"") -> -5.7396174 | CX35: =SUM(CX4:CX34) -> 21993 | CY35: =SUM(CY4:CY34) -> 24567 | CZ35: =IFERROR((CX35/CY35-1)*100,"") -> -10.47747 | DA35: =SUM(DA4:DA34) -> 3427 | DB35: =SUM(DB4:DB34) -> 4518 | DC35: =IFERROR((DA35/DB35-1)*100,"") -> -24.147853 | DD35: =SUM(DD4:DD34) -> 78348 | DE35: =SUM(DE4:DE34) -> 69401 | DF35: =IFERROR((DD35/DE35-1)*100,"") -> 12.891745
A36: 추정치 | C36: 1706000 | D36: 1600263 | E36: =IFERROR((C36/D36-1)*100,"") -> 6.6074764 | F36: 496000 | G36: 392230 | H36: =IFERROR((F36/G36-1)*100,"") -> 26.456416 | I36: 288900 | J36: 323266 | K36: =IFERROR((I36/J36-1)*100,"") -> -10.630874 | L36: 153500 | M36: 133433 | N36: =IFERROR((L36/M36-1)*100,"") -> 15.039008 | O36: 42000 | P36: 52439 | Q36: =IFERROR((O36/P36-1)*100,"") -> -19.906939 | R36: 40400 | S36: 40167 | T36: =IFERROR((R36/S36-1)*100,"") -> 0.58007817 | U36: 51500 | V36: 48535 | W36: =IFERROR((U36/V36-1)*100,"") -> 6.1089935 | X36: 58100 | Y36: 58724 | Z36: =IFERROR((X36/Y36-1)*100,"") -> -1.0625979 | AA36: 32500 | AB36: 37050 | AC36: =IFERROR((AA36/AB36-1)*100,"") -> -12.280702 | AD36: 29700 | AE36: 34338 | AF36: =IFERROR((AD36/AE36-1)*100,"") -> -13.506902 | AG36: 40000 | AH36: 40841 | AI36: =IFERROR((AG36/AH36-1)*100,"") -> -2.0592052 | AJ36: 15800 | AK36: 16591 | AL36: =IFERROR((AJ36/AK36-1)*100,"") -> -4.7676451 | AM36: 15100 | AN36: 12472 | AO36: =IFERROR((AM36/AN36-1)*100,"") -> 21.071199 | AP36: 6700 | AQ36: 4501 | AR36: =IFERROR((AP36/AQ36-1)*100,"") -> 48.85581 | AS36: 6100 | AT36: 5008 | AU36: =IFERROR((AS36/AT36-1)*100,"") -> 21.805112 | AV36: 3980 | AW36: 3689 | AX36: =IFERROR((AV36/AW36-1)*100,"") -> 7.8883166 | AY36: 930 | AZ36: 828 | BA36: =IFERROR((AY36/AZ36-1)*100,"") -> 12.318841 | BB36: 2190 | BC36: 1772 | BD36: =IFERROR((BB36/BC36-1)*100,"") -> 23.589165 | BE36: 210 | BF36: 253 | BG36: =IFERROR((BE36/BF36-1)*100,"") -> -16.996047 | BH36: 7180 | BI36: 4545 | BJ36: =IFERROR((BH36/BI36-1)*100,"") -> 57.975798 | BK36: 139900 | BL36: 141152 | BM36: =IFERROR((BK36/BL36-1)*100,"") -> -0.88698708 | BN36: 31200 | BO36: 28986 | BP36: =IFERROR((BN36/BO36-1)*100,"") -> 7.6381702 | BQ36: 11500 | BR36: 10446 | BS36: =IFERROR((BQ36/BR36-1)*100,"") -> 10.089987 | BT36: 5200 | BU36: 4174 | BV36: =IFERROR((BT36/BU36-1)*100,"") -> 24.580738 | BW36: 24300 | BX36: 20870 | BY36: =IFERROR((BW36/BX36-1)*100,"") -> 16.435074 | BZ36: 20000 | CA36: 16646 | CB36: =IFERROR((BZ36/CA36-1)*100,"") -> 20.148985 | CC36: 20400 | CD36: 17690 | CE36: =IFERROR((CC36/CD36-1)*100,"") -> 15.319389 | CF36: 20700 | CG36: 19038 | CH36: =IFERROR((CF36/CG36-1)*100,"") -> 8.7299086 | CI36: 8000 | CJ36: 6790 | CK36: =IFERROR((CI36/CJ36-1)*100,"") -> 17.820324 | CL36: 5900 | CM36: 4623 | CN36: =IFERROR((CL36/CM36-1)*100,"") -> 27.622756 | CO36: 3000 | CP36: 2381 | CQ36: =IFERROR((CO36/CP36-1)*100,"") -> 25.99748 | CR36: 6000 | CS36: 5917 | CT36: =IFERROR((CR36/CS36-1)*100,"") -> 1.4027379 | CU36: 2600 | CV36: 2332 | CW36: =IFERROR((CU36/CV36-1)*100,"") -> 11.492281 | CX36: 25800 | CY36: 26742 | CZ36: =IFERROR((CX36/CY36-1)*100,"") -> -3.5225488 | DA36: 4100 | DB36: 4838 | DC36: =IFERROR((DA36/DB36-1)*100,"") -> -15.254237 | DD36: 89940 | DE36: 79809 | DF36: =IFERROR((DD36/DE36-1)*100,"") -> 12.694057

Sheet 출국
A1: 월 | B1: 일 | C1: =입국!C2 -> 2025
C2: 인원수 | D2: 전년동기 | E2: 증감률(%)
A3: =입국!A4 -> 10 | B3: 1 | C3: 103487 | D3: 81468 | E3: =IFERROR((C3/D3-1)*100,"") -> 27.02779
B4: 2 | C4: 131224 | D4: 97762 | E4: =IFERROR((C4/D4-1)*100,"") -> 34.228023
B5: 3 | C5: 158358 | D5: 101634 | E5: =IFERROR((C5/D5-1)*100,"") -> 55.812031
B6: 4 | C6: 139236 | D6: 76809 | E6: =IFERROR((C6/D6-1)*100,"") -> 81.275632
B7: 5 | C7: 123540 | D7: 75489 | E7: =IFERROR((C7/D7-1)*100,"") -> 63.652983
B8: 6 | C8: 110138 | D8: 68961 | E8: =IFERROR((C8/D8-1)*100,"") -> 59.710561
B9: 7 | C9: 101970 | D9: 61948 | E9: =IFERROR((C9/D9-1)*100,"") -> 64.605798
B10: 8 | C10: 90473 | D10: 69737 | E10: =IFERROR((C10/D10-1)*100,"") -> 29.734574
B11: 9 | C11: 69968 | D11: 89577 | E11: =IFERROR((C11/D11-1)*100,"") -> -21.890664
B12: 10 | C12: 59542 | D12: 64654 | E12: =IFERROR((C12/D12-1)*100,"") -> -7.9067034
B13: 11 | C13: 52669 | D13: 70534 | E13: =IFERROR((C13/D13-1)*100,"") -> -25.328211
B14: 12 | C14: 62619 | D14: 70746 | E14: =IFERROR((C14/D14-1)*100,"") -> -11.487575
B15: 13 | C15: 66998 | D15: 67666 | E15: =IFERROR((C15/D15-1)*100,"") -> -0.98720184
... B32: 30 | C32: 0 | D32: 64912 | E32: =IFERROR((C32/D32-1)*100,"") -> -100
A34: 소계 | C34: =SUM(C3:C33) -> 2175465 | D34: =SUM(D3:D33) -> 2167091 | E34: =IFERROR((C34/D34-1)*100,"") -> 0.38641663
A35: 추정치 | C35: 2705000 | D35: 2382464 | E35: =IFERROR((C35/D35-1)*100,"") -> 13.537917
C37: =C38+C40 -> 2502338.1
B38: 소계 + 22일 평균 값 * 9일 | C38: =AVERAGE(C3:C31)*4+C34 -> 2475529.1 | D38: =AVERAGE(D3:D31)*4+D34 -> 2457046.7
C40: 26809 | D40: 75416 | E40: =D40-C40 -> 48607

Sheet 월별시장동향
F1: =입국!A4&"월" -> 10월
G2: ="2025년 "&F1&" 월별시장동향 (대표지사)" -> 2025년 10월 월별시장동향 (대표지사)
A5: 국가명 | B5: 지사명 | C5: 2025년 추정치 | D5: 2024년 확정치 | E5: 증감률 | G5: ="1. "&F1&" 실적 (노란색 선택 시 자동반영)" -> 1. 10월 실적 (노란색 선택 시 자동반영)
A6: 전체 | B6: 전체 | C6: =입국!C36 -> 1706000 | D6: =입국!D36 -> 1600263 | E6: =입국!E36 -> 6.6074764 | J6: (단위 : 명, %)
A7: 중국 | B7: 중국지역센터 | C7: =입국!F36 -> 496000 | D7: =입국!G36 -> 392230 | E7: =입국!H36 -> 26.456416 | G7: 지사명 | H7: ="2024년 "&F1&"(확정치)" -> 2024년 10월(확정치) | I7: ="2025년 "&F1&"(추정치)" -> 2025년 10월(추정치) | J7: 증감률 | L7: ="* 2025년 "&F1&"(추정치)는 2025."&입국!A4&".1~"&입국!A4&".26 자료 기준으로 추정" -> * 2025년 10월(추정치)는 2025.10.1~10.26 자료 기준으로 추정
A8: 일본 | B8: 도쿄 | C8: =입국!I36 -> 288900 | D8: =입국!J36 -> 323266 | E8: =입국!K36 -> -10.630874 | G8: 프랑크푸르트 | H8: =IFERROR(VLOOKUP($G$8,$B:$E,3,0),"") -> 17690 | I8: =IFERROR(VLOOKUP($G$8,$B:$E,2,0),"") -> 20400 | J8: =IFERROR(VLOOKUP($G$8,$B:$E,4,0),"") -> 15.319389
A9: 대만 | B9: 타이베이 | C9: =입국!L36 -> 153500 | D9: =입국!M36 -> 133433 | E9: =입국!N36 -> 15.039008
A10: 홍콩 | B10: 홍콩 | C10: =입국!O36 -> 42000 | D10: =입국!P36 -> 52439 | E10: =입국!Q36 -> -19.906939 | G10: ="2. "&F1&" 증감원인" -> 2. 10월 증감원인
A11: 태국 | B11: 방콕 | C11: =입국!R36 -> 40400 | D11: =입국!S36 -> 40167 | E11: =입국!T36 -> 0.58007817
A12: 베트남 | B12: 하노이 | C12: =입국!U36 -> 51500 | D12: =입국!V36 -> 48535 | E12: =입국!W36 -> 6.1089935 | G12: ∙ 인천-프랑크푸르트 노선 8월 7일부터 아시아나항공(주4회) A380 투입 및 8월 12일부터 대한항공 주 1회(3회→4회) 증편을 통한 공급 증가 ∙ 약 5,700 승선규모 크루즈(MSC) 제주(10.17) 및 부산(10.22) 입항
A14: 필리핀 | B14: 마닐라 | C14: =입국!X36 -> 58100 | D14: =입국!Y36 -> 58724 | E14: =입국!Z36 -> -1.0625979
A15: 말레이시아 | B15: 쿠알라룸프르 | C15: =입국!AA36 -> 32500 | D15: =입국!AB36 -> 37050 | E15: =입국!AC36 -> -12.280702
A16: 인도네시아 | B16: 자카르타 | C16: =입국!AD36 -> 29700 | D16: =입국!AE36 -> 34338 | E16: =입국!AF36 -> -13.506902
A17: 싱가포르 | B17: 싱가포르 | C17: =입국!AG36 -> 40000 | D17: =입국!AH36 -> 40841 | E17: =입국!AI36 -> -2.0592052
A18: 인도 | B18: 뉴델리 | C18: =입국!AJ36 -> 15800 | D18: =입국!AK36 -> 16591 | E18: =입국!AL36 -> -4.7676451 | G18: ="3. "&F1&" 업무동향(사업명, 사업기간, 세부내용 1~2줄)" -> 3. 10월 업무동향(사업명, 사업기간, 세부내용 1~2줄)
A19: 몽골 | B19: 울란바토르 | C19: =입국!AM36 -> 15100 | D19: =입국!AN36 -> 12472 | E19: =입국!AO36 -> 21.071199
A20: 카자흐스탄 | B20: 알마티 | C20: =입국!AS36 -> 6100 | D20: =입국!AT36 -> 5008 | E20: =입국!AU36 -> 21.805112 | G20: ∙ 신흥시장 홍보지점(베네룩스) 미디어 이벤트(Travel Presentation/.10.9) 및 소비자 관광박람회(Verre Reizen/10.11~12) 참가 ∙ 지사 SNS 팔로워 초청이벤트 (10.24), Korea Culture Day 한국관광홍보관 운영 (10.25), ‘25 해외광고영상 영화제 스크린 상영(10.21~26)
A25: 캐나다 | B25: 토론토 | C25: =입국!BN36 -> 31200 | D25: =입국!BO36 -> 28986 | E25: =입국!BP36 -> 7.6381702
A26: 멕시코 | B26: 멕시코시티 | C26: =입국!BQ36 -> 11500 | D26: =입국!BR36 -> 10446 | E26: =입국!BS36 -> 10.089987 | G26: 4. 주재국 및 관할국내 한국인 입국 통계
A27: 러시아 | B27: 모스크바 | C27: =입국!BW36 -> 24300 | D27: =입국!BX36 -> 20870 | E27: =입국!BY36 -> 16.435074 | J27: (단위 : 명, %)
A28: 영국 | B28: 런던 | C28: =입국!BZ36 -> 20000 | D28: =입국!CA36 -> 16646 | E28: =입국!CB36 -> 20.148985 | G28: 구분 | H28: ="2024년 "&입국!A4-2&"월" -> 2024년 8월 | I28: ="2025년 "&입국!A4-2&"월" -> 2025년 8월 | J28: 증감률
A29: 독일 | B29: 프랑크푸르트 | C29: =입국!CC36 -> 20400 | D29: =입국!CD36 -> 17690 | E29: =입국!CE36 -> 15.319389 | G29: 한국->독일 | H29: =(I29*100)/(100+J29) -> 21766.492 | I29: 20787 | J29: -4.5
A30: 프랑스 | B30: 파리 | C30: =입국!CF36 -> 20700 | D30: =입국!CG36 -> 19038 | E30: =입국!CH36 -> 8.7299086
A31: 영국 | B31: 런던 | C31: =입국!BZ39 -> 0 | D31: =입국!CA39 -> 0 | E31: =입국!CB39 -> 0 | G31: 구분 | H31: ="2024년 "&입국!A4-2&"월" -> 2024년 8월 | I31: ="2025년 "&입국!A4-2&"월" -> 2025년 8월 | J31: 증감률
A32: 독일 | B32: 프랑크푸르트 | C32: =입국!CC39 -> 0 | D32: =입국!CD39 -> 0 | E32: =입국!CE39 -> 0 | G32: 한국->오스트리아 | H32: =I32-455 -> 23520 | I32: 23975 | J32: =(I32/H32-1)*100 -> 1.9345238
G34: 출처 : Statistisches Bundesamt(독일 연방 통계청)
G35: URL : https://www.destatis.de/DE/Themen/Branchen-Unternehmen/Gastgewerbe-Tourismus/Publikationen/_publikationen-innen-tourismus-monat.html?nn=206104
G36: 출처 : Statistik Austria(오스트리아 연방 통계청)
G37: URL : https://www.statistik.at/en/statistics/tourism-and-transport/tourism/accommodation/arrivals-overnight-stays
G40: 5. 원본 자료 첨부
G41: * 주재국 및 관할국내 한국인 입국 통계 자료시 참고하신 자료 원본 일체
G42: * 월별 시장동향 자료 제출시 원본 자료도 함께 첨부 부탁드립니다.
